Workbook

Sheet 記載上の注意
A1: 2026年度人間中心設計専門家審査書類の記入上の注意
A3: ● この「審査書類」は認定の合否を判断するための重要な資料です。
A4: ウェブサイトの「審査書類の書き方」を十分に確認した上で、正確かつ慎重に記入してください。
A5: https://www.hcdnet.org/certified/exam-document-guide
A6: 審査では、提出された書類を基に、申請者が他の場面でも同様にコンピタンスを発揮できるかを客観的に判断します。
A7: ※「コンピタンス記述書」について、A群・B群・C群で記述するコンピタンス項目は、プロジェクトごとに（1）～（3）のすべてを、各セル50文字以上500文字以下で記述してください。 いずれかが未記入、または文字数の条件を満たしていない場合、そのプロジェクトの該当するコンピタンス項目は審査対象外となります。
A8: ※審査書類は、受験者自身が独力で作成してください。作成した審査書類について、他者からアドバイスを受けることも控えてください。
A10: ● 指定された記入欄を除き、機密情報、受験者や所属先を特定できる情報、個人情報は記述しないでください。
A11: 受験者本人や所属先を特定できる情報（社名や自社製品名、ウェブサイトのURLなど）は記述しないでください。
A12: ※機密情報、受験者や所属先を特定できる情報、個人情報を記載したプロジェクトは、審査対象外となります。指定された記入欄に記載する情報は除きます。
A13: ※「プロジェクト記述書」の「所属機関名」「所属部署名」「活動歴を証明できる方」の各欄には、指定された情報を記入してください。 これらの欄の記載内容は、審査時に事務局がマスキングします。
A15: 実績を記述する際は、以下の例のように、商品名や所属団体名などを一般化して表記してください。
... A44: ● A群・B群・C群で記述するコンピタンス項目は、プロジェクトごとに（1）～（3）のすべてを、各セル50文字以上500文字以下で記述してください。 いずれかが未記入、または文字数の条件を満たしていない場合、そのプロジェクトの該当するコンピタンス項目は審査対象外となります。

Sheet プロジェクト記述書
A1: プロジェクト記述書 | D1: 注意：機密情報、受験者や所属先を特定できる情報、個人情報は記入しないでください。URLや行政機関名も、受験者や所属先の特定につながる場合は記入しないでください。ただし、「所属機関名」「所属部署名」「活動歴を証明できる方」の各欄には、指定された情報を記入してください。
B2: 受験番号▶ | D2: ←受験番号は、「271」で始まる6桁の数字で記入してください。
D3: ▼プロジェクトは、3件以上5件以下で記入してください。
D4: 記入済み件数 | E4: P1 | F4: P2 | G4: P3 | H4: P4 | I4: P5
A5: プロジェクト全体概要 （記入必須） | C5: 活動・プロジェクト名 ※メモ参照 | D5: =COUNTA(E5:I5) -> 0
C6: 背景 ※メモ参照 | D6: =COUNTA(E6:I6) -> 0
C7: 対象 ※メモ参照 | D7: =COUNTA(E7:I7) -> 0
C8: 課題 ※メモ参照 | D8: =COUNTA(E8:I8) -> 0
C9: 目的・ゴール ※メモ参照 | D9: =COUNTA(E9:I9) -> 0
C10: 開始年月 ※メモ参照 | D10: =COUNTA(E10:I10) -> 0
C11: 終了年月 ※メモ参照 | D11: =COUNTA(E11:I11) -> 0
C12: 所属機関名（実施時） | D12: =COUNTA(E12:I12) -> 0
C13: 所属部署名（実施時） | D13: =COUNTA(E13:I13) -> 0
C14: プロジェクト体制 ※メモ参照 | D14: =COUNTA(E14:I14) -> 0
C15: プロジェクト全体の成果・結果 ※メモ参照 | D15: =COUNTA(E15:I15) -> 0
A16: 活動歴を証明できる方 氏名：必須 所属：任意 電話番号・メールアドレス：いずれか必須 | C16: 氏名 ※メモ参照 | D16: =COUNTA(E16:I16) -> 0
C17: 所属 ※メモ参照 | D17: =COUNTA(E17:I17) -> 0
C18: 電話番号 ※メモ参照 | D18: =COUNTA(E18:I18) -> 0
C19: メールアドレス ※メモ参照 | D19: =COUNTA(E19:I19) -> 0
A20: プロジェクトの目的・ 実践フェーズ | B20: 商品開発（システム、サービス、コンテンツ） | C20: 事前調査（市場調査、フィージビリティ） | D20: 該当するものに〇
C21: 企画・要件
C22: 設計・デザイン・開発
C23: ユーザー検証
C24: 運用・サポート
B25: HCDに関するコンサルティング | C25: 商品開発（システム、サービス、コンテンツなど）
C26: プロセス開発（組織、運用、ガイドラインなど）
C27: 教育・啓蒙
B28: HCDに関する研究 | C28: 人間特性
C29: 設計／評価手法、ツール
C30: UI提案、先行技術開発
B31: その他 | C31: 自由形式で記載
A32: あなたの担当した業務 | B32: 申請者の役割 （記入必須） | C32: 役職／役割名（実施時） ※メモ参照 | D32: =COUNTA(E32:I32) -> 0
B33: コンサルティング | D33: 該当するものに〇
B34: 研究開発
B35: 調査・企画
B36: デザイン・設計
B37: 評価・品質管理
B38: 教育・啓蒙
B39: マネジメント

Sheet コンピタンス記述書
A1: コンピタンス記述書
A2: プロジェクト | B2: プロジェクト名 ※C列：申請者の役割 | C2: コンピタンス | D2: B1.HCDプロジェクト企画能力（プロジェクトマネジメントコンピタンス） | G2: B2.HCDプロジェクト調整・推進能力（プロジェクトマネジメントコンピタンス） | J2: B3.HCDプロジェクトのチーム運営能力（プロジェクトマネジメントコンピタンス） | M2: A1.調査・評価設計能力 （基本コンピタンス） | P2: A2.ユーザー調査実施能力（基本コンピタンス） | S2: A3.定性・定量データの分析能力（基本コンピタンス） | V2: A4.現状のモデル化能力（基本コンピタンス） | Y2: A5.ユーザー体験の構想・提案能力（基本コンピタンス） | AB2: A6.新製品・新規事業の企画提案力（基本コンピタンス） | AE2: A7.ユーザー要求仕様作成能力（基本コンピタンス） | AH2: A8.製品・システム・サービスの要求仕様作成能力（基本コンピタンス） | AK2: A9.情報構造の設計能力（基本コンピタンス） | AN2: A10.デザイン仕様作成能力（基本コンピタンス） | AQ2: A11.プロトタイピング能力（基本コンピタンス） | AT2: A12.ユーザーによる評価実施能力（基本コンピタンス） | AW2: A13.専門知識に基づく評価実施能力（基本コンピタンス） | AZ2: C1.HCD適用・導入設計能力（導入推進コンピタンス） | BC2: C2.教育プログラム開発能力（導入推進コンピタンス） | BF2: C3.人材育成能力（導入推進コンピタンス） | BI2: C4.手法・方法論開発能力（導入推進コンピタンス） | BL2: L1: 文書作成能力 （テクニカルコミュニケーション能力） | BM2: L2: コミュニケーション能力 （テクニカルコミュニケーション能力） | BN2: L3: ファシリテーション能力 （テクニカルコミュニケーション能力）
C3: 定義 | D3: 人間中心設計を適用するプロジェクト（HCDプロジェクト）を企画、計画できる能力のこと *HCDプロジェクトに必要な要件や前提事項を明確にし、HCDプロジェクトのゴール、プロセス、アクティビティ、成果物、チーム構成などを適切に企画することが期待される *HCDプロジェクトにおける人間中心設計のプロセスの各活動で、活用する手法を選び、HCDプロジェクト企画書や計画書に記述することが期待される *製品開発や行政サービス運用等のプロジェクトに対し、「なぜHCDを適用する必要があるのか」を関係者（プロジェクトのマネージャー、事業責任者、開発に関わるメンバー等）に説明し、HCDプロジェクトの企画承認に向けた取り組みを実施できることが求められる 要件や前提事項を明確にするための手法例（※1）：共感マップ、ビジネスモデルキャンバス、バリュープロポジションキャンバス、仮説キャンバス、Rapid Ethical Deliberation Canvas（倫理的熟議キャンバス）など アウトプット例：HCDプロジェクト企画書（※2）、HCDプロジェクト計画書（※2） ※1：手法の使用自体ではなく、目的や状況に応じて適切に、選択・活用できることが求められる ※2：プロジェクト企画書内やプロジェクト計画書内にHCDの取り組みの要素を記載するケースもあり得る | G3: 人間中心設計を適用するプロジェクト（HCDプロジェクト）に対するプロジェクトマネジメント能力のこと HCDプロジェクトの実現に向けて、HCDプロセスと各種活動の本質的な意味を十分に理解し、目標達成に向けて利害関係者との調整を含む適切な取り組みを、状況に応じて実施できることが求められる HCDプロジェクトの推進にあたって関係するさまざまな部門やチーム、クライアントとの調整、および、HCDプロジェクトのリソース（予算、人材、施設・設備、諸材料、情報、時間など）およびスケジュール、リスクなどを管理/調整することが期待される アプローチ例：HCDプロジェクトのリソース・スケジュール・品質・リスクの管理、HCDプロジェクトのプロジェクト管理、HCDプロジェクト関係者の合意形成、バウンダリーオブジェクト（ビジネスモデルキャンバス、バリュープロポジションキャンバス、Rapid Ethical Deliberation Canvas（倫理的熟議キャンバス）など）による利害関係者との調整、HCDプロジェクト実施の環境整備（共創空間、デジタルツール） アウトプット例：HCDタスク一覧表、HCDマスタースケジュール、WBS、メンバー一覧表 | J3: 人間中心設計を適用するプロジェクト（HCDプロジェクト）において、チームを形成し、メンバー間の連携を支援・促進できる能力のこと *HCDプロジェクトの実現に向けて、メンバーのスキルを十分に理解し、目標達成へ向けてアウトプットが最大化するように、チームを運営できることが求められる。HCDに関わる考え方の共有や、手技法の活用が含まれることが望ましい *HCDプロジェクトチームがHCDプロジェクトの課題や目標を共有し、個々のプロジェクトメンバー間のコミュニケーションに配慮し、その能力を十全に発揮できるようリードすることが期待される アプローチ例：チーム内での考え方や知識の共有、メンバー間のコミュニケーションや連携の促進、各メンバーのスキルを生かした役割分担（これらには、デザインシステムやデザインガイドラインの運用、 HCDの基礎知識共有などを通じた取り組みが含まれる） アウトプット例：チームの活動方針や役割分担、共通認識をまとめた資料（プロジェクト憲章、ユビキタス言語、WBSなど） | M3: *A1では、人間中心設計を適用するプロジェクト（HCDプロジェクト、HCD専門資格コンピタンスマップ P.2参照）そのものの企画提案ではなく、HCDプロジェクトの中で調査、評価のプロセスを取り入れるための計画や、企画提案を行った活動を対象とする *実施するHCDプロジェクトについて、HCDの観点から課題を適切に掴み、HCDプロジェクトのゴールや目的に応じてHCDに関する適切な調査・評価の計画を立案し、それらの具体的な実施内容を設計できる（評価/調査仕様を作成できる）ことが期待される *HCDプロジェクトの対象領域に関わる文化的な背景や知識などの情報を把握し、調査・評価すべき事項を判断・選択した上で、HCDプロジェクトの進行に合わせてHCDに関わる調査・評価活動を計画することが求められる。また、個別の調査・評価活動の設計のみならず、HCDプロジェクト全体を見通して、調査・評価活動の実施計画を作成することが期待される アウトプットの例：以下を記述した調査・評価の企画書、提案書など ・調査・評価の目的 ・実施内容 ・用いる手法の特徴やそれを選んだ理由の説明 ・HCDプロジェクト全体におけるHCDプロセスの位置づけ ・調査・評価結果をどのように活用するか | P3: ユーザーの利用状況や本質的要求などを把握するために、現場でユーザーの利用文脈調査を適切に実施できる能力のこと *「ユーザーに評価対象を使用・体験してもらい、その結果に基づいて評価すること」ではなく、「ユーザーやその周辺の状況を調査すること」に関わるコンピタンスである *この能力は下記の２つの能力によって構成される ・適用する調査手法や実施方法、対象者の選定について、調査の目的や位置づけに応じて適切に判断/選択する能力 ・選択された調査手法や実施方法などに基づいて、自ら適切に調査を実施する能力 上記の他、質問紙調査などユーザーを対象に調査を行い、ユーザーに関するデータを取得する手法であれば、それらの実施能力が対象となる *選択された調査手法や実施方法などの実施能力として代表的なものに、以下がある ・インタビュー設計実施能力：対象者との対話を通じて、調査目的に沿った経験や考えを引き出し、言語データを得る能力のこと。 インタビュー実施にあたっては、対象者との信頼関係を築き、回答を誘導しないよう配慮しながら、発言を促し事実や本音を引き出すことが期待される ・観察実施能力：ユーザーと利用状況の観察を通じて、さまざまな事象に気づき、目の前で起きていることと既存知識を結びつけ、洞察を行う能力のこと。 実施にあたっては、調査者自身の活動が対象者に与える影響を理解し、適切な方法でデータを取得することが期待される ユーザー調査実施能力の例： ・インタビュー設計実施能力：半構造化インタビュー、文脈的インタビュー ・観察実施能力：行動観察、エスノグラフィー | S3: *A2のコンピタンス相当の調査によって収集した定性・定量データを、調査・評価の目的に適した方法で分析し、ユーザーの本質的な欲求、行動、利用状況などの特徴を把握できる能力のこと *インタビュー発話などの定性データ、アンケート調査などの定量データをもとに分析を行い、ユーザーの本質的な欲求を抽出することが期待される *さまざまな手法により取得したデータに対して、調査の目的とデータの性質に適した解析手法を用いて分析し、客観性・再現性のある結果を抽出することが期待される データの例： [定性データ] インタビュー発話データ、操作映像、音声 [定量データ] 質問紙回答、ライフログ、アクセスログ、操作パフォーマンス系データ（生理計測値、メンタルワークロードなど） 解析法の例： [定性的分析] グラウンデッドセオリー法、KJ法、上位下位関係分析、KA法、動線解析 [定量的分析] 記述統計、推測統計、多変量解析 | V3: ユーザーの利用状況や本質的欲求などについて、調査データや分析結果に基づいてモデル（構造）化できる能力のこと *モデルとは、複雑なシステムや現実の物事から、その本質（あるいは理想的状態）を抽出し、図や模型、数式などの形式に表現したもの。モデルは、概念モデル・物理モデル・数学モデルなど多数ある *A4では現状のモデル化を対象とし、理想的なユーザー体験の構想・提案は対象外（A5へ記載） *ユーザーの価値観・日常行動・業務の作業内容など、モデルを使用する目的に応じて、現状の活動・振る舞い・情報などをモデル化することが期待される *モデル化にあたっては、ユーザーの現状を、調査データ（A2）および分析結果（A3）などを用いて記述することが期待される 手法・活動・アウトプットの例：ペルソナ、ワークモデル分析、KJ法、カスタマージャーニーマップ(AsIs）、KA法（価値マップ） | Y3: 製品・システム・サービスにおける理想的なユーザー体験を構想・提案できる能力のこと *ユーザーの本質的な要求やニーズ特性に基づいて、対象製品やシステムおよびサービスの利用に関するさまざまなタッチポイント（一連の関わり合いの各場面）における、ユーザーの満足をもたらすような理想的なユーザー体験を構想・提案すること *A5では理想的なユーザー体験の構想・提案を対象とし、現状のモデル化は対象外（A4 へ記載） *理想的なユーザー体験のコンセプトや、対象製品・サービスとユーザー体験との関係をわかりやすく表現し、関係者に説明することが期待される 手法・活動・アウトプットの例：カスタマージャーニーマップ（ToBe）、UXDコンセプトツリー、ストーリーテリング、理想シナリオ、構造化シナリオ法、ユーザーストーリーマッピング | AB3: ユーザー理解から得られた視点や価値に基づく新たなコンセプトを、関係者に提案し実現に向けて合意をとれる企画提案能力のこと *製品・システム・サービス、あるいは事業や研究テーマなどに関わるコンセプトが対象となる。人間中心設計（HCD）視点によるイノベーティブな企画提案のための活動を計画できる能力も含む *所属業界や所属組織においてこれまで生み出されなかった新しい概念に対し、調査結果やモデルなどを活用し、アイデアの具現化だけでなく実現へ向けた提案ロジックの構築も期待される 手法・活動・アウトプットの例：ビジネスモデルキャンバス、ビジョン提案型デザイン手法、ピッチ資料、事業企画書、リサーチ分析結果 | AE3: ユーザー調査データや分析結果および構想・提案したユーザー体験を用い、ユーザー要求仕様として表現できること。また、それらに対し適切な優先順位、評価指標を設定できること *具体的なシステムに対する要件定義ではなく、ユーザーが実現したい内容、解決したい課題についての記載が求められる *顕在化している要求だけでなく、ユーザーの本質的要求（潜在的要求）についても抽出できていることが期待される アウトプットの例：ユーザーシナリオ、ユーザー要求仕様書、コンセプトシート、利用品質メトリクス、ペルソナなど | AH3: ユーザー要求仕様をもとに、製品・システム・サービスに必要な機能を定義し、それらを要求仕様として表現できる能力のこと *ユーザーの要求の定義ではなく、それを受けて製品・システム・サービスを具現化する方向性を示した要求仕様についての記載が求められる *各スコープにおける相互の影響や優先順位、実現可能性も含めた、具体的かつ現実的な機能の定義が期待される *アクセシビリティに関する要求に優先度を付けた仕様やアクセシビリティガイドラインを適切に活用できることも期待される アウトプットの例：基本設計書、要求仕様書、ユーザーストーリーマッピング、Design Doc、製品要求仕様書（PRD） | AK3: 製品やシステム、サービスの使用に際し、ユーザーが情報を理解しやすく、またユーザー自身が情報を探しやすくなるような構造を、要求仕様に基づいて設計できる能力のこと *ユーザーニーズとコンテンツの属性をもとに適切な情報構造を設計したり、ラベリングの一貫性を持たせたりできることが求められる。Webやアプリに限らず、ユーザーが情報を理解し、必要な情報を見つけられるように、情報構造を設計することが重要である *情報構造の設計の意図を持たず、ワイヤーフレームを書いただけでは情報構造の設計能力とは言えないので注意 アウトプットの例：コンテンツインベントリ、サイトマップ、状態遷移フロー、命名規則リスト、類義語リスト、メタデータ仕様書、ナビゲーション設計書、API設計書、メニュー構造、ドキュメントの構造、ワイヤーフレーム、情報アーキテクチャ | AN3: ユーザー要求仕様・システム要求仕様・情報構造設計をもとに製品・システム・サービスをデザインでき、仕様あるいは実体として表現（視覚化）できる能力のこと *デザイン対象となるものとしては、インタフェース、画面遷移、UIガイドライン、物理的な操作インターフェース、LED報知パターン、報知音、取扱説明書などがある *仕様あるいは実体として表現（視覚化）できる点にとどまらず、視覚化した内容を適切に説明・資料化し、改善案を提示できることも期待される アウトプットの例：インタフェース仕様書、ワイヤーフレーム、UIガイドライン、デザインシステム、報知仕様書、取扱説明書、ハードウェアデザイン設計書 | AQ3: 製品・システム・サービスの企画や開発の途中段階で、ユーザーの要求仕様や製品・システム・サービスの要求仕様を、設計案やデザイン案として提示するためのプロトタイプを作成できる能力のこと *プロトタイプには、ペーパープロトタイプから詳細プロトタイプまであるが、単なる試作ではなく、各開発フェーズ・目的・作成期間に応じた、適切なプロトタイプの作成が期待される *プロトタイプの作成にあたっては、主に、開発初期フェーズや検証フェーズで、短期間かつ迅速なラピッドプロトタイピングを主導することが期待される *作成されたプロトタイプを用いた評価によって得られた結果は、製品・システム・サービス要求仕様およびデザイン仕様に反映されることが期待される 手法・活動・アウトプットの例：コンセプトムービー、各種モックアップ、シミュレーション、アクティングアウト（製品やサービスを使用する場面の寸劇） | AT3: 製品・システム・サービスの企画や開発の初期段階、または途中段階でユーザーに評価対象を提示することにより、評価対象がユーザーに適しているかどうかを判断するためのテストを適切に実施でき、プロジェクトの目的に応じて、結果を適切に分析できる能力のこと *A12は、ユーザーに評価対象を使用・体験してもらい、その結果に基づいて評価する能力を対象とする。ユーザーやその周辺の状況を調査する能力は、A2の対象とする *提示する評価対象は、企画や開発の初期段階においては現状の製品や先行する競合製品などが対象となることが多い。これらを先行事例として評価することで問題点を洗い出すことなどを目的として実施される。 開発の途中で実施する場合は、プロトタイプなどその時点での成果物を評価対象とし、ある仮説を検証することなどを目的として実施される *プロジェクト全体における評価の目的によって、適切な評価対象を選択することが求められる *適用する評価指標や評価基準、実施方法、対象者（ユーザー）、評価メンバーの選定については、各開発フェーズ、ユーザーの利用時（運用）において評価の目的や位置づけに応じて適切に判断・選択することが期待される *実施にあたっては、対象者にかかる身体的・心理的負荷や心理的バイアスを理解して、評価課題や評価環境を適切に設定し、対象者に適切な教示を行うことが期待される *評価結果は、認知科学などの学術的な知見に基づいて客観的に分析し、次の活動に役立てることが期待される 手法・活動・アウトプットの例：コンセプト受容性評価、αテスト、シナリオの受容性評価、製品・システム・サービスのユーザビリティ評価 | AW3: 人間中心設計（HCD）および関連する専門知識を用いて、製品・システム・サービスのユーザビリティ、アクセシビリティ、ユーザーエクスペリエンス、ユーザーインタフェースなどの良し悪しの判断・指摘ができる能力のこと *実施にあたっては、認知科学などにおける学術的な理論や法則、アクセシビリティのガイドライン、およびユーザビリティの経験則などに基づいて、客観的に評価を記述できることが期待される *適用する評価手法や実施方法、評価メンバーの選定について、評価の目的や開発のフェーズ、ユーザーの利用状況に応じて適切に判断・選択することが期待される *ユーザーによる評価実施（A12）の実施前に、予め専門知識に基づく評価を行い、課題をピックアップする場合がある 手法・活動・アウトプットの例：ヒューリスティック法、ウォークスルー法、タスク分析 | AZ3: 人間中心設計プロセス（HCDプロセス）の組織への導入やそれを実践する体制を構築する企画・計画が立案できる能力のこと *HCDプロセスの導入にあたって関係者の同意を取り付けるための交渉力や、継続運用が可能な仕組みを構築できる能力も含める *一つのプロジェクトへHCDプロセスを導入した事例は対象外 *複数のプロジェクトへHCDプロセスを導入し、結果としてプロセスが組織に導入された事例を対象とする *マネジメントまたはHCD推進者の立場から、組織のポリシー（理念・戦略・方針・倫理規範など）に沿ったユーザビリティ、アクセシビリティ、ユーザエクスペリエンスの目標を設定し、組織や部門に対して、HCDプロセスの全部あるいは一部を導入する計画を立案することが期待される *HCDプロセスの実施にあたり、以下を行うことが期待される。 ①導入の対象とする組織に合わせた実施体制を構築し、適用する手法・技法を選択すること ②ガイドラインの策定、ドキュメントの整備、標準化、運用ルールの策定などを行うこと アウトプットの例：HCDプロセスを社内（あるいは社外）の開発プロセスへ導入する稟議書、提案書 補足：社外の事例とは、申請者がコンサルタントとして支援した組織にHCDプロセスが導入された場合や、ガイドラインが策定された場合などを想定 | BC3: 人間中心設計（HCD）に関する教育プログラムを開発できる能力のこと *特定の組織や組織の規模に限らず、教育機関などにおけるプログラムやカリキュラムの開発を対象とする *教育プログラムは、社内で利用するもの、社外で利用するものの両方を対象とする *個別のプロジェクト内でのOJTや自主的な教育・学習活動については対象外とする（OJTや自主的な教育はC3へ記載） *HCDプロセス、またはHCDに関する手技法などに関する教育プログラムを開発することが期待される *HCDに関する体系的な知識やノウハウが得られる教育プログラムやカリキュラムの開発が期待される アウトプットの例：HCDに関する教育・研修プログラム、HCDに関する学習教材 | BF3: 人間中心設計（HCD）に関する教育や訓練をおこなう機会を設けたり、組織・メンバー・関係者のHCDに関するスキルの向上を支援できる能力のこと *適切な人材育成計画を立案し、OJTによる訓練、業務内外の研修、講義、ワークショップ、対話など、HCDを学ぶ機会を作ること *教育プログラムの開発は除く（教育プログラムはC2に記載） *講師やファシリテーターを担当することにより、組織・部門・プロジェクトメンバー・関係者のHCDに関するスキルを向上させることが期待される アウトプットの例：申請者が講師やファシリテーターを担当した研修の実施記録、使用した教材、実施結果の報告書など。実施記録には、実施日時、参加人数、場所、実施内容を含む。 | BI3: 人間中心設計（HCD）に関する手技法や、方法論を開発できる能力のこと *HCDの実践を支援する開発プロセスや開発方法論あるいは手技法の研究/開発、およびHCDの実践に必要なコンピタンスに関わる研究/開発を行い、独自の整理・体系化・一般化に基づき新たな手法化、方法論化を行うこと *独自の研究に留まらず、組織内外への積極的な公表やドキュメント化など、成果を外部化することが期待される 手法・活動・アウトプットの例：NEM法、UXカーブ法、SEPIA法、開発した手法が掲載された社内外のメディア（論文、雑誌、Web媒体など） | BL3: 目的に応じて、伝える相手に適切に意図が伝わる文書、ドキュメントを作成できる能力のこと *適切なドキュメント構成、および、適切な文章表現を行うことが期待される | BM3: 相手が納得・理解できるよう、活動成果や自身の考えをわかりやすく適切に伝えることのできる能力のこと *ゴール設定、参加ステークホルダーの決定と参集、ストーリーデザイン、資料作成（構成、レイアウト、テキスト、図版など）、実際のプレゼンテーション、質疑応対、フォローなどを適切に行うことが期待される | BN3: 人間中心設計プロジェクト（HCDプロジェクト）を実施する際に行われるさまざまな活動を、円滑に・容易にできるよう支援するとともに、ステークホルダー（関係者）の参加を促進したり議論・検討の過程のかじ取りを行うことのできる能力のこと *プロジェクトにおける会議やワークショップのような複数の人々による問題解決、アイデア創造、合意形成、教育・学習など、HCDに関する目的を達成するために実施する活動において、ファシリテーターとして適切なかじ取りを行うことが期待される
C4: 求められる 記入内容 | D4: （1）目的と対象 ・HCDプロジェクトを企画するにあたり、プロジェクト企画能力の観点から、HCDを適用した目的（なぜHCDを適用したのか）を記述してください。 ・HCDプロジェクトの対象として、企画したプロジェクトの概要や特徴を具体的に記述してください。 | E4: （2）体制と実施内容 ・HCDプロジェクト企画提案における体制と、その中で申請者が担当した役割を具体的に記述してください。 ・HCDプロジェクトの実現に向けて、申請者が実施した取り組みを具体的に記述してください。 | F4: （3）工夫とアウトプット ・HCDプロジェクトを企画する際に工夫した点を記述してください。例えば、要件や前提条件の整理、ゴールやプロセス、アクティビティ、成果物、チーム構成などを定義する際に工夫した点について記述してください。 ・申請者が作成したアウトプットと、そのアウトプットが後続の工程にどのようにつながったかを記述してください。 | G4: （1）対象 ・HCDプロジェクトにおいて、申請者が管理の対象としたリソース（予算、人員、期間など）を記述してください。 | H4: （2）工夫 ・HCDプロジェクト調整・推進を行う際に工夫した点を記述してください。 例えば、関係部門やチーム、クライアントとの調整、リソース（予算・人員）の管理、スケジュールやリスクの調整など、HCDプロジェクトを調整・推進するうえで特に工夫した点を具体的に記述してください。 | I4: （3）アウトプットと得られた成果 ・申請者が作成したアウトプットと、申請者の調整・推進によって得られた成果を記述してください。 | J4: （1）対象 ・申請者が運営を担当したHCDプロジェクトのチーム構成、体制、および運営期間を記述してください。 | K4: （2）工夫 ・チーム運営で工夫した点を記述してください。例えば、HCDプロジェクトの課題や目標をチームで共有する方法や、メンバー間のコミュニケーションに配慮した取り組みなど、チームやメンバーが能力を発揮できるように行った工夫を具体的に記述してください。 | L4: （3）アウトプットと得られた成果 ・申請者が作成したアウトプットと、申請者のチーム運営によって、得られた成果を記述してください。 | M4: （1）目的と調査・評価設計の対象 ・調査や評価の実施計画を立てるにあたり、その設計が必要とされた背景や目的を記述してください。 ・調査・評価の設計を行った対象（プロダクト、サービス、画面など）の範囲やバリエーションを記述してください。 | N4: （2）体制と実施内容 ・調査・評価設計における体制と、その中で申請者が担当した役割を具体的に記述してください。 ・調査・評価の目的に対して、どのような方法を選択したのか、その背景や理由を含めて、一連のプロセスを記述してください。 | O4: （3）工夫とアウトプット ・調査・評価の計画を設計する際に工夫した点を記述してください。例えば、プロジェクトの課題や利用者視点での課題をどのように把握し、どのように設計に反映したのかなど、工夫した点を具体的に記述してください。 ・申請者のアウトプットと、そのアウトプットが後続の工程にどのようにつながったかを記述してください。 | P4: （1）目的とユーザー調査の対象 ・ユーザー調査を実施する必要が生じた背景や目的を記述してください。 ・ユーザー調査の対象者（利用者）の属性（範囲、特性、バリエーションなど）を記述してください。 | Q4: （2）体制と実施内容 ・調査計画に沿って実施したユーザー調査について、実施体制と申請者の役割を記述してください。あわせて、実施場所、対象人数、所要時間、実施環境を具体的に記述してください。 ・ユーザー調査の実施にあたり、調べたいことや把握したい内容をどのように整理・取捨選択し、その結果をどのように反映して実査の流れを組み立てたかを、一連のプロセスとして記述してください。 | R4: （3）工夫とアウトプット ・ユーザー調査の実施にあたり、調査の目的に即して工夫した点を記述してください。 ・申請者のアウトプットと、そのアウトプットが後続の工程にどのようにつながったかを記述してください。活動の実施時点で確認できた成果がある場合は、その内容も記述してください。 | S4: （1）目的と分析の対象 ・データ分析を実施する必要が生じた背景や目的を記述してください。 ・分析対象とした調査データの範囲や特性、バリエーションを記述してください。 | T4: （2）体制と実施内容 ・データ分析を行った体制と、その中で申請者が担当した役割を具体的に記述してください。 ・データ分析にあたり、対象とする調査データを選定した理由と、そのデータをどのように分析したかを、一連のプロセスとして記述してください。 | U4: （3）工夫とアウトプット ・データ分析を行う際に工夫した点を記述してください。例えば、調査の目的やデータの性質に適した分析方法の選定、データ分析の客観性や再現性を担保するための工夫などについて具体的に記述してください。 ・申請者のアウトプットと、そのアウトプットが後続の工程にどのようにつながったかを記述してください。活動の実施時点で確認できた成果がある場合は、その内容も記述してください。 | V4: （1）目的とモデル化の対象 ・モデル化を実施する必要が生じた背景や目的を記述してください。 ・モデル化したユーザーの利用状況、行動、業務などの対象範囲やバリエーションを記述してください。 | W4: （2）体制と実施内容 ・モデル化を行った体制と、その中で申請者が担当した役割を具体的に記述してください。 ・現状のモデル化にあたり、どのようなデータ分析結果を用いたのか、その結果を選定した理由と、どのように活用して現状のモデル化を行ったのかを、一連のプロセスとして記述してください。 | X4: （3）工夫とアウトプット ・現状のモデル化を行う際に工夫した点を記述してください。例えば、どのようなシーンを対象とし、どのような手法を選択し、どのようにデータ分析結果を活用したのかなどについて具体的に記述してください。 ・申請者のアウトプットと、そのアウトプットが後続の工程にどのようにつながったかを記述してください。この段階で成果が得られた場合は、その内容も記述してください。 | Y4: （1）目的と構想の対象 ・理想的なユーザー体験の構想・提案を行う必要が生じた背景や目的を記述してください。 ・理想的なユーザー体験を構想・提案したシステム、画面、フローなどの範囲やバリエーションを記述してください。 | Z4: （2）体制と実施内容 ・理想的なユーザー体験の構想・提案を行った体制と、その中で申請者が担当した役割を具体的に記述してください。 ・理想的なユーザー体験の構想・提案にあたり、どのような「現状モデル」を用いたのか、そのモデルを選定した理由と、どのように活用して理想的なユーザー体験の構想・提案を行ったのかを、一連のプロセスとして記述してください。 | AA4: （3）工夫とアウトプット ・理想的なユーザー体験の構想・提案を行う際に工夫した点を記述してください。例えば、現状モデルの活用の工夫や、構想・提案の内容の伝え方の工夫などについて具体的に記述してください。 ・申請者のアウトプットと、そのアウトプットが後続の工程にどのようにつながったかを記述してください。この段階で成果が得られた場合は、その内容も記述してください。 | AB4: （1）企画の目的と対象範囲 ・企画提案の目的や、その根拠となったユーザーの行動や要望を記述してください。 ・企画提案の対象とした製品・システム・サービスなどのコンセプトと、提案に含めた範囲やバリエーションを記述してください。 | AC4: （2）体制と実施内容 ・企画提案を行った体制と、その中で申請者が担当した役割を具体的に記述してください。 ・企画提案にあたり、根拠とした情報（調査結果やユーザー体験など）と、それらを選定した理由、さらにそれらをもとにどのように企画提案を組み立てたのかを、一連のプロセスとして記述してください。 | AD4: （3）工夫とアウトプット ・企画提案を行う際に、アイデアの具現化や提案ロジックの構築などで工夫した点を記述してください。 ・申請者のアウトプットと、その提案（アウトプット）がどのような結果や成果につながったかを記述してください。 | AE4: （1）目的と要求仕様の作成対象 ・ユーザー要求仕様を作成する必要が生じた背景や目的を記述してください。 ・ユーザー要求仕様を作成した対象（システム、画面、フローなどの範囲やバリエーション）を記述してください。 | AF4: （2）体制と実施内容 ・ユーザー要求仕様を作成した体制と、その中で申請者が担当した役割を具体的に記述してください。 ・ユーザー要求仕様の作成にあたり、どのような調査結果やユーザー体験の構想などを根拠としたのか、その根拠を選定した理由と、それをもとにどのようにユーザー要求を定義したのかを、一連のプロセスとして記述してください。 | AG4: （3）工夫とアウトプット ・ユーザー要求仕様を作成する際に工夫した点を記述してください。例えば、調査結果からユーザーの本質的な要求を抽出する工夫、ユーザーが実現したいことや解決したい課題を明確にする工夫、要求の優先順位や達成度を評価する指標の設定などの観点から、具体的に記述してください。 ・申請者のアウトプットと、そのアウトプットが後続の工程にどのようにつながったかを記述してください。この段階で成果が得られた場合は、その内容も記述してください。 | AH4: （1）目的と要求仕様の作成対象 ・製品・システム・サービスの要求仕様を作成する必要が生じた背景や目的を記述してください。 ・要求仕様を作成した対象（システム、画面、フローなどの範囲やバリエーション）を記述してください。 | AI4: （2）体制と実施内容 ・製品・システム・サービスの要求仕様を作成した体制と、その中で申請者が担当した役割を具体的に記述してください。 ・要求仕様の作成にあたり、どのようなユーザー要求仕様を根拠としたのか、その根拠を選定した理由と、それをもとにどのように製品・システム・サービスの要求を定義したのかを、一連のプロセスとして記述してください。 | AJ4: （3）工夫とアウトプット ・製品・システム・サービスの要求仕様を作成する際に工夫した点を記述してください。例えば、ユーザー要求を実現するために必要な機能を具体化する工夫、機能間の相互影響や技術的・運用上の制約を踏まえた優先順位づけ、実現可能性の検討などの観点から、具体的に記述してください。 ・申請者のアウトプットと、そのアウトプットが後続の工程にどのようにつながったかを記述してください。この段階で成果が得られた場合は、その内容も記述してください。 | AK4: （1）目的と情報構造の設計対象 ・情報構造の設計を行う必要が生じた背景や目的を記述してください。 ・情報構造を設計した対象（システム、画面、フローなどの範囲やバリエーション）を記述してください。 | AL4: （2）体制と実施内容 ・情報構造を設計した体制と、その中で申請者が担当した役割を具体的に記述してください。 ・情報構造の設計にあたり、どのような根拠をもとに構造を組み立てたのか、その根拠を選定した理由や判断のプロセスを含めて、一連の流れとして記述してください。 | AM4: （3）工夫とアウトプット ・情報構造を設計する際に工夫した点を記述してください。例えば、ユーザーの理解しやすさや探しやすさ、情報の優先順位づけ、実現可能性、今後のサービス拡大への対応などの観点から記述してください。 ・申請者のアウトプットと、そのアウトプットが後続の工程にどのようにつながったかを記述してください。この段階で成果が得られた場合は、その内容も記述してください。 | AN4: （1）目的とデザイン仕様作成の対象 ・デザイン仕様を作成する必要が生じた背景や目的を記述してください。 ・デザイン仕様を作成した対象（システム、画面、フローなどの範囲やバリエーション）を記述してください。 | AO4: （2）体制と実施内容 ・デザイン仕様を作成した体制と、その中で申請者が担当した役割を具体的に記述してください。 ・デザイン仕様の作成にあたり、ユーザー要求仕様・システム要求仕様・情報構造設計など、どの要素を根拠としたのか、その根拠を選定した理由と、それをもとにどのようにデザイン仕様を作成したのかを、一連のプロセスとして記述してください。 | AP4: （3）工夫とアウトプット ・デザイン仕様を作成する際に工夫した点を記述してください。例えば、仕様や実体としての表現（視覚化）、プレゼンテーション、資料化、改善案の提示など、対象・アウトプットに応じて工夫した点を記述してください。 ・申請者のアウトプットと、そのアウトプットが後続の工程にどのようにつながったかを記述してください。この段階で成果が得られた場合は、その内容も記述してください。 | AQ4: （1）目的とプロトタイピングの対象 ・プロトタイピングを実施する必要が生じた背景や目的を記述してください。 ・プロトタイピングを実施した対象（システム、画面、フローなどの範囲やバリエーション）を記述してください。 | AR4: （2）体制と実施内容 ・プロトタイピングを実施した体制と、その中で申請者が担当した役割を具体的に記述してください。 ・プロトタイピングの実施にあたり、ユーザー要求仕様や製品・システム・サービスの要求仕様など、どの要素を根拠や前提としたのか、その根拠を選定した理由と、それをもとにどのようにプロトタイピングを実施したのかを、一連のプロセスとして記述してください。 | AS4: （3）工夫とアウトプット ・プロトタイプを作成する際に工夫した点を記述してください。例えば、ユーザー要求仕様や製品・システム・サービスの要求仕様を仮説として検証するために、仕様の見せ方や表現方法を工夫した点などを記述してください。 ・申請者のアウトプットと、そのアウトプットが後続の工程にどのようにつながったかを記述してください。この段階で成果が得られた場合は、その内容も記述してください。 | AT4: （1）目的と評価の対象 ・ユーザーによる評価を実施する必要が生じた背景や目的を記述してください。 ・ユーザーに評価してもらった対象（システム、画面、フローなどの範囲やバリエーション）を記述してください。 | AU4: （2）体制と実施内容 ・ユーザーによる評価の実施体制と、その中で申請者が担当した役割を具体的に記述してください。あわせて、実施場所、対象人数、1回あたりの所要時間、実施期間を記述してください。 ・ユーザーによる評価の実施にあたり、評価指標や評価基準、実施方法、対象者（ユーザー）、評価メンバーの選定などを適切に行うための根拠や前提を記述してください。 ・また、それらの根拠や前提を選んだ理由や、それをもとにどのような判断を行い、どのように評価を組み立てたのかを、一連のプロセスとして記述してください。 | AV4: （3）工夫とアウトプット ・ユーザーによる評価を実施する際に工夫した点を記述してください。例えば、対象者（ユーザー）にかかる身体的・心理的負荷の軽減や、心理的バイアスへの対応などの観点から記述してください。 ・ユーザーによる評価のアウトプットを、どのように客観的に分析しフィードバックしたか、またその結果を後続の工程にどのようにつなげたかを記述してください。この段階で成果が得られた場合は、その内容も記述してください。 | AW4: （1）目的と評価の対象 ・専門知識に基づく評価を実施する必要が生じた背景や目的を記述してください。 ・専門知識に基づいて評価した対象（システム、画面、フローなどの範囲やバリエーション）を記述してください。 | AX4: （2）体制と実施内容 ・専門知識に基づく評価を実施した体制と、その中で申請者が担当した役割を具体的に記述してください。 ・専門知識に基づく評価の実施にあたり、評価手法や実施方法、評価メンバーの選定などを適切に行うための根拠や前提を記述してください。 ・また、それらの根拠や前提を選んだ理由や、それをもとにどのように評価を組み立てたのかを、一連のプロセスとして記述してください。 | AY4: （3）工夫とアウトプット ・専門知識を用いて評価を実施する際、客観的に評価するために工夫した点を記述してください。 ・専門知識による評価のアウトプットをどのようにまとめ、どのようにフィードバックして後続の工程につなげたかを記述してください。活動の実施時点で確認できた成果がある場合は、その内容も記述してください。 | AZ4: （1）目的とプロセスの適用対象 ・HCDプロセスの適用・導入を行う必要が生じた背景や目的を記述してください。 ・HCDプロセスを適用・導入した対象（組織、チームなど）を記述してください。 | BA4: （2）体制と実施内容 ・HCDプロセスの適用・導入計画を立案した体制と、その中で申請者が担当した役割を具体的に記述してください。 ・HCDプロセスを組織に導入するにあたり、組織内の背景や前提を踏まえて、どのようなプロセスで進めたのかを、一連の流れとして記述してください。 | BB4: （3）工夫とアウトプット ・HCDプロセスの適用・導入計画を立案・実行する際に工夫した点を記述してください。例えば、実施体制の構築、適用する手法の選定、ガイドラインの策定などの観点から記述してください。 ・申請者のアウトプットと、その成果が後続のプロジェクト推進にどのような影響を与えたかを記述してください。 | BC4: （1）目的と教育プログラムの適用対象 ・教育プログラムを開発する必要が生じた背景や目的を記述してください。 ・開発した教育プログラムの適用範囲として想定した対象（組織、チームなど）や場面を記述してください。 | BD4: （2）体制と実施内容 ・教育プログラムを開発した体制と、その中で申請者が担当した役割を具体的に記述してください。 ・教育プログラムを開発する上で、教育の対象となる組織、チーム、メンバーの背景や前提を踏まえ、どのようなプロセスで進めたのかを、一連の流れとして記述してください。 | BE4: （3）工夫とアウトプット ・教育プログラムを開発する際に工夫した点を記述してください。例えば、カリキュラム設計や学習教材の内容・構成、学習プロセスの設計などの観点から記述してください。 ・申請者のアウトプットと、そのアウトプットがどのように活用されたかを記述してください。 | BF4: （1）目的と育成対象 ・HCDに関する人材育成を実施する必要が生じた背景や目的を記述してください。 ・育成の対象（組織、チームなど）を記述してください。 | BG4: （2）体制と実施内容 ・人材育成を実施した体制と、その中で申請者が担当した役割を具体的に記述してください。 ・HCDに関する人材育成を実践する上で、育成の対象となる組織、チーム、メンバーの背景や前提を踏まえ、どのようなプロセスで進めたのかを、一連の流れとして記述してください。 | BH4: （3）工夫とアウトプット ・人材育成を実施する際に工夫した点を記述してください。例えば、講演やファシリテーションの実施などの場面における工夫について記述してください。 ・申請者が作成・使用した教材や実施記録などのアウトプットと、人材育成によって得られた成果を具体的に記述してください。 | BI4: （1）開発の目的と想定した適用範囲 ・HCDに関する手法・方法論を開発する必要が生じた背景や目的を記述してください。 ・開発した手法・方法論の適用範囲として想定した対象（組織、チームなど）や場面を記述してください。 | BJ4: （2）体制と実施内容 ・手法を開発した体制と、その中で申請者が担当した役割を具体的に記述してください。 ・手法の開発にあたり、制約となった条件などを踏まえ、どのようなプロセスで開発を進めたのかを、一連の流れとして記述してください。 | BK4: （3）工夫とアウトプット ・手法を開発する際に工夫した点を記述してください。例えば、開発プロセスの設計や手法・方法論の社内外への公開・共有の工夫などの観点から記述してください。 ・申請者のアウトプット（新たに開発した手法・技法・方法論など）と、そのアウトプットがどのように活用されたのかを記述してください。 | BL4: (1)アウトプット、成果/効果などを含む自由記載 | BM4: (1)アウトプット、成果/効果などを含む自由記載 | BN4: (1)アウトプット、成果/効果などを含む自由記載
A5: P1 | B5: =プロジェクト記述書!E5 -> 0 | C5: =プロジェクト記述書!E32 -> 0
C6: =MAX(D6:BN6) -> 0 | D6: =LEN(D5) -> 0 | E6: =LEN(E5) -> 0 | F6: =LEN(F5) -> 0 | G6: =LEN(G5) -> 0 | H6: =LEN(H5) -> 0 | I6: =LEN(I5) -> 0 | J6: =LEN(J5) -> 0 | K6: =LEN(K5) -> 0 | ... BN6: =LEN(BN5) -> 0
A7: P2 | B7: =プロジェクト記述書!F5 -> 0 | C7: =プロジェクト記述書!F32 -> 0
C8: =MAX(D8:BN8) -> 0 | D8: =LEN(D7) -> 0 | E8: =LEN(E7) -> 0 | F8: =LEN(F7) -> 0 | G8: =LEN(G7) -> 0 | H8: =LEN(H7) -> 0 | I8: =LEN(I7) -> 0 | J8: =LEN(J7) -> 0 | K8: =LEN(K7) -> 0 | ... BN8: =LEN(BN7) -> 0
A9: P3 | B9: =プロジェクト記述書!G5 -> 0 | C9: =プロジェクト記述書!G32 -> 0
C10: =MAX(D10:BN10) -> 0 | D10: =LEN(D9) -> 0 | E10: =LEN(E9) -> 0 | F10: =LEN(F9) -> 0 | G10: =LEN(G9) -> 0 | H10: =LEN(H9) -> 0 | I10: =LEN(I9) -> 0 | J10: =LEN(J9) -> 0 | K10: =LEN(K9) -> 0 | ... BN10: =LEN(BN9) -> 0
A11: P4 | B11: =プロジェクト記述書!H5 -> 0 | C11: =プロジェクト記述書!H32 -> 0
C12: =MAX(D12:BN12) -> 0 | D12: =LEN(D11) -> 0 | E12: =LEN(E11) -> 0 | F12: =LEN(F11) -> 0 | G12: =LEN(G11) -> 0 | H12: =LEN(H11) -> 0 | I12: =LEN(I11) -> 0 | J12: =LEN(J11) -> 0 | K12: =LEN(K11) -> 0 | ... BN12: =LEN(BN11) -> 0
A13: P5 | B13: =プロジェクト記述書!I5 -> 0 | C13: =プロジェクト記述書!I32 -> 0
C14: =MAX(D14:BN14) -> 0 | D14: =LEN(D13) -> 0 | E14: =LEN(E13) -> 0 | F14: =LEN(F13) -> 0 | G14: =LEN(G13) -> 0 | H14: =LEN(H13) -> 0 | I14: =LEN(I13) -> 0 | J14: =LEN(J13) -> 0 | K14: =LEN(K13) -> 0 | ... BN14: =LEN(BN13) -> 0
A15: 受験番号 | B15: =プロジェクト記述書!C2 -> 0 | C15: 文字数 | D15: =MAX(D6,D8,D10,D12,D14,E6,E8,E10,E12,E14,F6,F8,F10,F12,F14) -> 0 | G15: =MAX(G6,G8,G10,G12,G14,H6,H8,H10,H12,H14,I6,I8,I10,I12,I14) -> 0 | J15: =MAX(J6,J8,J10,J12,J14,K6,K8,K10,K12,K14,L6,L8,L10,L12,L14) -> 0 | M15: =MAX(M6,M8,M10,M12,M14,N6,N8,N10,N12,N14,O6,O8,O10,O12,O14) -> 0 | P15: =MAX(P6,P8,P10,P12,P14,Q6,Q8,Q10,Q12,Q14,R6,R8,R10,R12,R14) -> 0 | S15: =MAX(S6,S8,S10,S12,S14,T6,T8,T10,T12,T14,U6,U8,U10,U12,U14) -> 0 | V15: =MAX(V6,V8,V10,V12,V14,W6,W8,W10,W12,W14,X6,X8,X10,X12,X14) -> 0 | Y15: =MAX(Y6,Y8,Y10,Y12,Y14,Z6,Z8,Z10,Z12,Z14,AA6,AA8,AA10,AA12,AA14) -> 0 | AB15: =MAX(AB6,AB8,AB10,AB12,AB14,AC6,AC8,AC10,AC12,AC14,AD6,AD8,AD10,AD12,AD14) -> 0 | AE15: =MAX(AE6,AE8,AE10,AE12,AE14,AF6,AF8,AF10,AF12,AF14,AG6,AG8,AG10,AG12,AG14) -> 0 | AH15: =MAX(AH6,AH8,AH10,,AH12,AH14,AI6,AI8,AI10,AI12,AI14,AJ6,AJ8,AJ10,AJ12,AJ14) -> 0 | AK15: =MAX(AK6,AK8,AK10,AK12,AK14,AL6,AL8,AL10,AL12,AL14,AM6,AM8,AM10,AM12,AM14) -> 0 | AN15: =MAX(AN6,AN8,AN10,AN12,AN14,AO6,AO8,AO10,AO12,AO14,AP6,AP8,AP10,AP12,AP14) -> 0 | AQ15: =MAX(AQ6,AQ8,AQ10,AQ12,AQ14,AR6,AR8,AR10,AR12,AR14,AS6,AS8,AS10,AS12,AS14) -> 0 | AT15: =MAX(AT6,AT8,AT10,AT12,AT14,AU6,AU8,AU10,AU12,AU14,AV6,AV8,AV10,AV12,AV14) -> 0 | AW15: =MAX(AW6,AW8,AW10,AW12,AW14,AX6,AX8,AX10,AX12,AX14,AY6,AY8,AY10,AY12,AY14) -> 0 | AZ15: =MAX(AZ6,AZ8,AZ10,AZ12,AZ14,BA6,BA8,BA10,BA12,BA14,BB6,BB8,BB10,BB12,BB14) -> 0 | BC15: =MAX(BC6,BC8,BC10,BC12,BC14,BD6,BD8,BD10,BD12,BD14,BE6,BE8,BE10,BE12,BE14) -> 0 | BF15: =MAX(BF6,BF8,BF10,BF12,BF14,BG6,BG8,BG10,BG12,BG14,BH6,BH8,BH10,BH12,BH14) -> 0 | BI15: =MAX(BI6,BI8,BI10,BI12,BI14,BJ6,BJ8,BJ10,BJ12,BJ14,BK6,BK8,BK10,BK12,BK14) -> 0 | BL15: =MAX(BL6,BL8,BL10,BL12,BL14) -> 0 | BM15: =MAX(BM6,BM8,BM10,BM12,BM14) -> 0 | BN15: =MAX(BN6,BN8,BN10,BN12,BN14) -> 0
A16: 注意：機密情報、受験者や所属先を特定できる情報、個人情報は記入しないでください。
A17: 注意：A群・B群・C群で記述するコンピタンス項目は、プロジェクトごとに（1）～（3）のすべてを、各セル50文字以上500文字以下で記述してください。 いずれかが未記入、または文字数の条件を満たしていない場合、そのプロジェクトの該当するコンピタンス項目は審査対象外となります。 15行目は文字数条件の確認用で、該当するコンピタンス項目の中で最も多く記述されたセルの記述文字数が表示されます。審査結果を示すものではありません。
A18: 注意：審査書類は、受験者自身が独力で作成してください。作成した審査書類について、他者からアドバイスを受けることも控えてください。
A20: 記入項目数 | B20: プロジェクト数 | C20: =COUNTIF(C6:C14,">=50") -> 0
B21: A群 | C21: =COUNTIF(M15:AW15,">=50") -> 0
B22: B群 | C22: =COUNTIF(D15:L15,">=50") -> 0
B23: C群 | C23: =COUNTIF(AZ15:BI15,">=50") -> 0
B24: B群＋C群 | C24: =SUM(C22:C23) -> 0
B25: L群 | C25: =COUNTIF(BL15:BN15,">=10") -> 0

Sheet プロジェクト整理シート 
A1: ※このシートの記入・提出は任意です。記述するプロジェクトとコンピタンス項目の選定・整理に活用してください。
A2: ［使い方］ ・P1～P5は、「プロジェクト記述書」に記入するプロジェクトに対応します。 ・各プロジェクトで記述する候補のコンピタンス項目に「○」を入力してください。 ・同じコンピタンス項目に複数のプロジェクトで「○」を付けても、必須項目数としては1項目と数えます。 ・専門家は、A群7項目以上、B群・C群それぞれ1項目以上、かつB群とC群の合計3項目以上を記述する必要があります。 ・このシートは記述候補の整理用であり、審査結果を保証するものではありません
C3: 簡易チェック (※正式な定義は「HCDコンピタンスマップ」で確認してください) | E3: P1 | F3: P2 | G3: P3 | H3: P4 | I3: P5 | J3: 専門家 | L3: スペシャリスト | M3: =COUNTIF(M4:M16,1) -> 0
A4: A. HCD基本コンピタンス | B4: A1. 調査・評価設計能力 | C4: 人間中心設計を適用するプロジェクト（HCDプロジェクト）内のある目的達成や課題解決のために、人間中心設計プロセスに基づく調査、評価の計画を企画立案できる能力のこと | D4: 例)プロジェクト内でアンケート、インタビュー、行動観察、ユーザビリティテストなどを実施するタイミングやその結果の活用について計画・立案し、各調査・評価の設計を行った | J4: 7項目以上 | L4: 6項目以上 | M4: =IF(COUNTIF(E4:I4,"*○*")>0,"1","0") -> 0
B5: A2. ユーザー調査実施能力 | C5: ユーザーの利用状況や本質的要求などを把握するために、現場でユーザーの利用文脈調査を適切に実施できる能力のこと | D5: 例)各調査においてアンケートの設計・配信・回収や、インタビュアー・調査員としての業務を担当した | M5: =IF(COUNTIF(E5:I5,"*○*")>0,"1","0") -> 0
B6: A3. 定性・定量データの分析能力 | C6: 収集した定性的/定量的データを、目的に対して適切な手法を用いて分析し、ユーザーの特性を把握できる能力のこと | D6: 例)ユーザー調査によって収集されたデータを分析し、分類、特徴抽出などによりユーザーの特性を把握した | M6: =IF(COUNTIF(E6:I6,"*○*")>0,"1","0") -> 0
B7: A4. 現状のモデル化能力 | C7: ユーザーの利用状況や本質的欲求などについて、調査データや分析結果に基づいてモデル（構造）化できる能力のこと | D7: 例)ユーザー調査によって収集されたデータに基づいて、ペルソナ、カスタマージャーニーマップ(AsIs)、KA法(価値マップ)の作成や、ワークモデル分析、KJ法による分類・可視化などを実施した | M7: =IF(COUNTIF(E7:I7,"*○*")>0,"1","0") -> 0
B8: A5. ユーザー体験の構想・提案能力 | C8: 製品・システム・サービスにおけるユーザーの理想的な体験をデザインできる能力のこと | D8: 例)カスタマージャーニーマップ(ToBe)、UXDコンセプトツリー、ストーリーテリング、理想シナリオなどを作成した | M8: =IF(COUNTIF(E8:I8,"*○*")>0,"1","0") -> 0
B9: A6. 新製品・新規事業の企画提案力 | C9: ユーザー理解から得られた視点や価値に基づく新たなコンセプトを関係者に提案し、実現に向けた合意を得られる能力のこと | D9: 例)ビジネスモデルキャンバス(既存の分析でなく、新規の構想によるもの)の作成、ビジョン提案型デザイン手法などを実施した | M9: =IF(COUNTIF(E9:I9,"*○*")>0,"1","0") -> 0
B10: A7. ユーザー要求仕様作成能力 | C10: ユーザー調査のデータや分析結果、構想したユーザー体験に基づいてユーザー要求仕様を作成し、要求の優先順位と達成度を評価する指標を設定できる能力のこと | D10: 例)ユーザーシナリオ、ユーザー要求仕様書、コンセプトシート、利用品質メトリクス、MVPキャンバスなどを作成した | M10: =IF(COUNTIF(E10:I10,"*○*")>0,"1","0") -> 0
B11: A8. 製品・システム・サービスの要求仕様作成能力 | C11: ユーザー要求仕様をもとに、製品・システム・サービスに必要な機能を定義し、それらを要求仕様として表現できる能力のこと | D11: 例)基本設計書、要求仕様書、サービス企画書などを作成した | M11: =IF(COUNTIF(E11:I11,"*○*")>0,"1","0") -> 0
B12: A9. 情報構造の設計能力 | C12: 製品やシステム、サービスの使用に際し、ユーザーが情報を理解しやすく、またユーザー自身が情報を探しやすくなるような構造を、要求仕様に基づいて設計できる能力のこと | D12: 例)コンテンツインベントリ、サイトマップ、状態遷移フロー、命名規則リスト、類義語リスト、メタデータ仕様書、ナビゲーション設計書、API設計書などの作成。メニュー構造、ドキュメント構造の検討とドキュメント化などを行った | M12: =IF(COUNTIF(E12:I12,"*○*")>0,"1","0") -> 0
B13: A10.デザイン仕様作成能力 | C13: ユーザー要求仕様・システム要求仕様・情報構造設計をもとに製品・システム・サービスをデザインでき、仕様あるいは実体として表現（視覚化）できる能力のこと | D13: 例)インタフェース仕様書、ワイヤーフレーム、UIガイドライン、デザインシステムなどを作成した | M13: =IF(COUNTIF(E13:I13,"*○*")>0,"1","0") -> 0
B14: A11. プロトタイピング能力 | C14: ユーザー要求仕様や製品・システム・サービスの要求仕様に基づいて、設計案やデザイン案を提示・検証するためのプロトタイプを作成できる能力のこと | D14: 例：コンセプトムービー、モックアップ、シミュレーションなどを作成した。または、製品やサービスの利用場面を寸劇で表現するアクティングアウトを実施した | M14: =IF(COUNTIF(E14:I14,"*○*")>0,"1","0") -> 0
B15: A12. ユーザーによる評価実施能力 | C15: 製品・システム・サービスの企画や開発の初期段階、または途中段階でユーザーに評価対象を提示することにより、評価対象がユーザーに適しているかどうかを判断するためのテストを適切に実施でき、プロジェクトの目的に応じて、結果を適切に分析できる能力のこと | D15: 例)コンセプト受容性評価、αテスト、シナリオの受容性評価、製品・システム・サービスのユーザビリティテストなどの実施 | M15: =IF(COUNTIF(E15:I15,"*○*")>0,"1","0") -> 0
B16: A13. 専門知識に基づく評価実施能力 | C16: 自身の人間中心設計および関連する専門知識を用いて、製品・システム・サービスのユーザビリティ、ユーザーエクスペリエンス、ユーザーインタフェースなどの良し悪しの判断・指摘ができる能力のこと | D16: 例)ヒューリスティック法、ウォークスルー法、タスク分析による分析などを行った | M16: =IF(COUNTIF(E16:I16,"*○*")>0,"1","0") -> 0
A17: B: プロジェクトマネジメントコンピタンス | B17: B1. HCDプロジェクト企画能力 | C17: 人間中心設計を適用するプロジェクト（HCDプロジェクト）を企画・計画できる能力 | D17: HCDプロジェクトに必要な要件や前提事項を明確にし、プロジェクトのゴール、プロセス、アクティビティ、成果物、チーム構成などを適切に企画するために行った活動について記述する必要がある | J17: B群で1項目以上 | K17: B、C群合わせて3項目以上 | L17: 記述不要 | M17: =IF(COUNTIF(E17:I17,"*○*")>0,"1","0") -> 0 | N17: =COUNTIF(M17:M19,1) -> 0
B18: B2.HCDプロジェクト調整・推進能力 | C18: 各フェーズ（工程）を判断し、人間中心設計を適用するプロジェクト（HCDプロジェクト）全体を推進できる能力 | D18: HCDプロジェクトの推進にあたって関係する様々な部門やチーム、クライアントとの調整、および、HCDプロジェクトのリソース（予算、人材、施設・設備、諸材料、情報、時間など）及びスケジュール、リスクなどを管理/調整するために行った活動について記述する必要がある | M18: =IF(COUNTIF(E18:I18,"*○*")>0,"1","0") -> 0 | N18: =IF(N17>0,1,0) -> 0
B19: B3. HCDプロジェクトのチーム運営能力 | C19: HCDプロジェクトにおいて、チームを形成し、メンバー間の連携を支援・促進できる能力のこと | D19: HCDプロジェクトチームが人間中心設計の目標を共有し、個々のプロジェクトメンバー間のコミュニケーションに配慮し、その能力を十全に発揮できるようリードするために行った活動について記述する必要がある | M19: =IF(COUNTIF(E19:I19,"*○*")>0,"1","0") -> 0
A20: Ｃ：導入推進コンピタンス | B20: C1. HCD適用・導入設計能力 | C20: 人間中心設計プロセスの組織への導入やそれを実践する体制に関する企画・計画が立案できる能力 | D20: 人間中心設計プロセスの組織への導入や、それを実践する体制に関する企画・計画の立案のために行った活動について記述する必要がある | J20: C群で1項目以上 | M20: =IF(COUNTIF(E20:I20,"*○*")>0,"1","0") -> 0 | N20: =COUNTIF(M20:M23,1) -> 0
B21: C2. 教育プログラム開発能力 | C21: 社内外の組織や教育機関などを対象に、HCDに関する教育プログラムやカリキュラムを開発できる能力のこと | D21: 開発した教育プログラムの内容、効果について記述する必要がある ※個別のプロジェクト内でのOJTや自主的な教育・学習活動については対象外となるため注意すること | M21: =IF(COUNTIF(E21:I21,"*○*")>0,"1","0") -> 0 | N21: =IF(N20>0,1,0) -> 0
B22: C3.人材育成能力 | C22: 人間中心設計に関する教育や訓練をおこなう機会を設けたり、組織・メンバー・関係者のHCDに関するスキルの向上を支援できる能力のこと | D22: 人材育成計画を立案し、OJTによる訓練、業務内外の研修、講義、ワークショップ、対話など、人間中心設計を学ぶ機会を作ることや、講師やファシリテーターを担当したことなどについて記述する必要がある | M22: =IF(COUNTIF(E22:I22,"*○*")>0,"1","0") -> 0 | N22: =SUM(N17,N20) -> 0
B23: C4. 手法・方法論開発能力 | C23: 人間中心設計に関する手技法や、方法論を開発できる能力 | D23: 開発した手法・技法・方法論の内容、開発時の工夫、活用方法、および得られた効果を記述する必要がある | M23: =IF(COUNTIF(E23:I23,"*○*")>0,"1","0") -> 0 | N23: =IF(AND(N21>0,N22>2),1,0) -> 0
A24: L: テクニカルコミュニケーション能力 | B24: L1: 文書作成能力 | C24: 目的に応じて、伝える相手に適切に意図が伝わる文書、ドキュメントを作成できる能力 | D24: その文書を作成した目的、アウトプット、成果/効果について記述する必要がある | J24: 加点項目
B25: L2: コミュニケーション能力 | C25: 相手が納得・理解できるよう、活動成果や自身の考えをわかりやすく適切に伝えることのできる能力 | D25: そのコミュニケーションのための活動を行った目的、アウトプット、成果/効果について記述する必要がある
B26: L3: ファシリテーション能力 | C26: HCDに関するプロジェクトを実施する際に行われる様々な活動を、円滑に・容易にできるよう支援するとともに、ステークホルダー（関係者）の参加を促進したり議論・検討の過程のかじ取りを行うことのできる能力 | D26: そのファシリテーションを行った目的、アウトプット、成果/効果について記述する必要がある

Sheet 手法から関連コンピタンスをチェックするシート 
A1: ※このシートの記入、提出は任意です。記述候補となるコンピタンスの整理に活用してください
A2: ［使い方］ ・この表は、実施した活動・手法と関連コンピタンスを整理するためのものです。 ・実施した活動・手法がある列の4行目で「○」を選択してください。下の表に、代表的な関連コンピタンスが自動表示されます。 ・手法・技法の実施や成果物の作成だけで、コンピタンスを発揮したと判断されるわけではありません。活動の目的、申請者の役割、実施内容、工夫、アウトプットおよび成果を具体的に説明できるか確認してください。 ・表示された項目は記述候補であり、コンピタンスの発揮を認定するものではありません。
A3: 活動・手法・アウトプットの例 | C3: ・調査・評価の企画立案書、提案書などの作成 | D3: ・インタビューの実施 例：半構造化インタビュー、文脈的インタビュー ・ユーザー観察の実施 例：行動観察、エスノグラフィー | E3: ・ユーザーや市場に関するデータ収集、分析の実施 収集するデータの例 [定量データ] アクセスログ、質問紙回答、ライフログ、操作パフォーマンス系データ（生理計測値、メンタルワークロードなど） [質的データ] インタビュー発話データ、操作映像、音声 データ解析方法の例 [定量的分析] 記述統計、推測統計、多変量解析 [定性的分析] グラウンデッドセオリー法、KJ法、上位下位関係分析、KA法、動線解析 | F3: ・ユーザーの現状をモデル化・可視化する活動の実施や、その成果物の作成 例：ペルソナ、ワークモデル分析、KJ法、カスタマージャーニーマップ（As-Is：現状）、KA法（価値マップ） | G3: ・理想的なユーザー体験をモデル化・可視化する活動の実施や、その成果物の作成 例：カスタマージャーニーマップ（To-Be：理想の状態）、UXDコンセプトツリー、ストーリーテリング、理想シナリオ、構造化シナリオ法、ユーザーストーリーマッピング | H3: ・新製品・新規事業の企画提案にあたり、関係者への説明に用いる資料の作成 例：ビジネスモデルキャンバス、ビジョン提案型デザイン手法、ピッチ資料、事業企画書、リサーチ分析結果 ※この項目では、資料の作成だけでなく、その資料を活用して関係者に提案し、実現に向けた合意を得た活動を対象とします。 | I3: ・ユーザー要求をモデル化・可視化する活動の実施や、その成果物の作成 例：ユーザーシナリオ、ユーザー要求仕様書、コンセプトシート、利用品質メトリクス | J3: ・ 製品、システム、サービスの要求仕様を可視化したアウトプットの作成 例：基本設計書、要求仕様書、ユーザーストーリーマッピング、Design Doc、製品要求仕様書（PRD） | K3: ・ 製品、システム、サービスの情報設計を可視化したアウトプットの作成 例：コンテンツインベントリ、サイトマップ、状態遷移フロー、命名規則リスト、類義語リスト、メタデータ仕様書、ナビゲーション設計書、API設計書、メニュー構造、ドキュメントの構造、ワイヤーフレーム | L3: ・デザインの仕様を可視化したアウトプットの作成 例：インタフェース仕様書、ワイヤーフレーム、UIガイドライン、デザインシステム | M3: ・ユーザーに対して仕様、設計、デザインなどのアイデアを提示するためのプロトタイプの作成 例：コンセプトムービー、各種モックアップ、シミュレーション、アクティングアウト（製品やサービスを使用する場面の寸劇） | N3: ・ユーザーに製品・サービスなどを提示して行う評価の実施 例：コンセプト受容性評価、αテスト、シナリオの受容性評価、製品・システム・サービスのユーザビリティ評価 | O3: ・申請者自身の専門知識に基づく評価の実施 例：ヒューリスティック法、ウォークスルー法、タスク分析
A4: 実施したことのあるものに○→
A5: A. HCD基本コンピタンス | B5: A1. 調査・評価設計能力 | C5: =IF(C4="○","○","")
B6: A2. ユーザー調査実施能力 | D6: =IF(D4="○","○","")
B7: A3. 定性・定量データの分析能力 | E7: =IF(E4="○","○","")
B8: A4. 現状のモデル化能力 | F8: =IF(F4="○","○","")
B9: A5. ユーザー体験の構想・提案能力 | G9: =IF(G4="○","○","")
B10: A6. 新製品・新規事業の企画提案力 | H10: =IF(H4="○","○","")
B11: A7. ユーザー要求仕様作成能力 | I11: =IF(I4="○","○","")
B12: A8. 製品・システム・サービスの要求仕様作成能力 | J12: =IF(J4="○","○","")
B13: A9. 情報構造の設計能力 | K13: =IF(K4="○","○","")
B14: A10.デザイン仕様作成能力 | L14: =IF(L4="○","○","")
B15: A11. プロトタイピング能力 | M15: =IF(M4="○","○","")
B16: A12. ユーザーによる評価実施能力 | N16: =IF(N4="○","○","")
B17: A13. 専門知識に基づく評価実施能力 | O17: =IF(O4="○","○","")
